BEGIN:VCALENDAR
VERSION:2.0
PRODID:-//Tukios.com/
BEGIN:VEVENT
UID:f611f90a-e34a-4c65-86f7-8d7a6864f252@www.morrisandhislope.com
DTSTAMP:20260421T171852Z
DTSTART:20260424T170000Z
DTEND:20260424T180000Z
SUMMARY:Funeral Service
DESCRIPTION:
URL:https://www.morrisandhislope.com/obituaries/peggy-kaufman
LOCATION:Main Chapel 5900 N. Hwy 27 P.O. Box 159 Science Hill KY 42553
GEO:37.1759231;-84.6236018
END:VEVENT
END:VCALENDAR