BEGIN:VCALENDAR
VERSION:2.0
PRODID:-//Tukios.com/
BEGIN:VEVENT
UID:3040d8e9-f163-4273-9b40-be40313a227d@www.morrisandhislope.com
DTSTAMP:20260421T170848Z
DTSTART:20260424T150000Z
DTEND:20260424T170000Z
SUMMARY:Public Viewing
DESCRIPTION:
URL:https://www.morrisandhislope.com/obituaries/peggy-kaufman
LOCATION:Main Chapel 5900 N. Hwy 27 P.O. Box 159 Science Hill KY 42553
GEO:37.1759231;-84.6236018
END:VEVENT
END:VCALENDAR